
BEGIN:VCALENDAR
VERSION:2.0
PRODID:-//Sozialdemokratische Partei Baselland - ECPv6.15.20//NONSGML v1.0//EN
CALSCALE:GREGORIAN
METHOD:PUBLISH
X-WR-CALNAME:Sozialdemokratische Partei Baselland
X-ORIGINAL-URL:https://sp-bl.ch
X-WR-CALDESC:Veranstaltungen im Sozialdemokratische Partei Baselland
REFRESH-INTERVAL;VALUE=DURATION:PT1H
X-Robots-Tag:noindex
X-PUBLISHED-TTL:PT1H
BEGIN:VTIMEZONE
TZID:Europe/Zurich
BEGIN:DAYLIGHT
TZOFFSETFROM:+0100
TZOFFSETTO:+0200
TZNAME:CEST
DTSTART:20250330T010000
END:DAYLIGHT
BEGIN:STANDARD
TZOFFSETFROM:+0200
TZOFFSETTO:+0100
TZNAME:CET
DTSTART:20251026T010000
END:STANDARD
BEGIN:DAYLIGHT
TZOFFSETFROM:+0100
TZOFFSETTO:+0200
TZNAME:CEST
DTSTART:20260329T010000
END:DAYLIGHT
BEGIN:STANDARD
TZOFFSETFROM:+0200
TZOFFSETTO:+0100
TZNAME:CET
DTSTART:20261025T010000
END:STANDARD
BEGIN:DAYLIGHT
TZOFFSETFROM:+0100
TZOFFSETTO:+0200
TZNAME:CEST
DTSTART:20270328T010000
END:DAYLIGHT
BEGIN:STANDARD
TZOFFSETFROM:+0200
TZOFFSETTO:+0100
TZNAME:CET
DTSTART:20271031T010000
END:STANDARD
END:VTIMEZONE
BEGIN:VEVENT
DTSTART;TZID=Europe/Zurich:20260423T073000
DTEND;TZID=Europe/Zurich:20260423T170000
DTSTAMP:20260423T140029
CREATED:20231108T104424Z
LAST-MODIFIED:20251105T102946Z
UID:10000332-1776929400-1776963600@sp-bl.ch
SUMMARY:Landrat / Fraktionssitzung
DESCRIPTION:Sitzung der SP-Fraktion mit anschliessender Landratssitzung.
URL:https://sp-bl.ch/veranstaltung/landrat-fraktionssitzung-2/2026-04-23/
CATEGORIES:Landratsfraktion
END:VEVENT
END:VCALENDAR